BEGIN:VCALENDAR
VERSION:2.0
PRODID:-//Sabre//Sabre VObject 4.5.8//EN
CALSCALE:GREGORIAN
BEGIN:VEVENT
UID:sabre-vobject-1605402d-ed46-4e98-955a-175482f11074
DTSTAMP:20260424T225045Z
SUMMARY:Heilige Messe
DESCRIPTION:https://www2.bistum-augsburg.de/gottesdienste/heilige-messe_id1
 709792
DTSTART;TZID=Europe/Berlin:20260429T183000
DURATION:PT30M
LOCATION:Maria\, Hilfe der Christen\, Aresinger Straße 12\, 86561 Unterwei
 lenbach
END:VEVENT
END:VCALENDAR
