BEGIN:VCALENDAR
VERSION:2.0
PRODID:-//Sabre//Sabre VObject 4.5.8//EN
CALSCALE:GREGORIAN
BEGIN:VEVENT
UID:sabre-vobject-42ef2c26-b4e6-493f-bd11-1b1092f8923e
DTSTAMP:20260423T124025Z
SUMMARY:Hochamt zum PATROZINIUM zum Hl. Georg
DESCRIPTION:https://www2.bistum-augsburg.de/gottesdienste/hochamt-zum-patro
 zinium-zum-hl-georg_id1709809
DTSTART;TZID=Europe/Berlin:20260426T103000
DURATION:PT30M
LOCATION:St. Georg
END:VEVENT
END:VCALENDAR
