BEGIN:VCALENDAR
VERSION:2.0
PRODID:-//Sabre//Sabre VObject 4.5.8//EN
CALSCALE:GREGORIAN
BEGIN:VEVENT
UID:sabre-vobject-2ebb5f36-dfc7-4f25-91b4-592a982ab9ea
DTSTAMP:20260419T173232Z
SUMMARY:Geburtstagsorgelkonzert zum Jahrestag der Orgelweihe \nMaria Stark\
 , Trompete\nWerner Zuber\, Orgel
DESCRIPTION:https://www2.bistum-augsburg.de/gottesdienste/geburtstagsorgelk
 onzert-zum-jahrestag-der-orgelweihe-maria-stark-trompete-werner-zuber-orge
 l_id1710185
DTSTART;TZID=Europe/Berlin:20260419T170000
DURATION:PT30M
LOCATION:Hlgst. Dreifaltigkeit
END:VEVENT
END:VCALENDAR
