BEGIN:VCALENDAR
VERSION:2.0
PRODID:-//Sabre//Sabre VObject 4.5.8//EN
CALSCALE:GREGORIAN
BEGIN:VEVENT
UID:sabre-vobject-4b754747-15cd-490f-b50b-52f2fcd104db
DTSTAMP:20260426T011934Z
SUMMARY:Klinikgottesdienst
DESCRIPTION:https://www2.bistum-augsburg.de/gottesdienste/klinikgottesdiens
 t_id1711555
DTSTART;TZID=Europe/Berlin:20260426T090000
DURATION:PT30M
LOCATION:St. Georg und Michael
END:VEVENT
END:VCALENDAR
