BEGIN:VCALENDAR
VERSION:2.0
PRODID:-//Sabre//Sabre VObject 4.5.8//EN
CALSCALE:GREGORIAN
BEGIN:VEVENT
UID:sabre-vobject-823d884a-abb5-4886-b1bc-5c9201955373
DTSTAMP:20260423T172425Z
SUMMARY:Kirchenkonzert "100 Jahre Kirchenmusik"
DESCRIPTION:https://www2.bistum-augsburg.de/gottesdienste/kirchenkonzert-10
 0-jahre-kirchenmusik_id1711576
DTSTART;TZID=Europe/Berlin:20260426T190000
DURATION:PT30M
LOCATION:St. Georg und Michael
END:VEVENT
END:VCALENDAR
