BEGIN:VCALENDAR
VERSION:2.0
PRODID:-//Sabre//Sabre VObject 4.5.8//EN
CALSCALE:GREGORIAN
BEGIN:VEVENT
UID:sabre-vobject-af1cb020-99d1-4aa4-b58a-a7f8a14ac5c1
DTSTAMP:20260422T225149Z
SUMMARY:Rosenkranz in St. Johann
DESCRIPTION:https://www2.bistum-augsburg.de/gottesdienste/rosenkranz-in-st-
 johann_id1712092
DTSTART;TZID=Europe/Berlin:20260503T101500
DURATION:PT30M
LOCATION:St. Georg\, Georgibergstraße 33\, 87656 Untergermaringen
END:VEVENT
END:VCALENDAR
