BEGIN:VCALENDAR
VERSION:2.0
PRODID:-//Sabre//Sabre VObject 4.5.8//EN
CALSCALE:GREGORIAN
BEGIN:VEVENT
UID:sabre-vobject-4b78a959-6c49-46d9-9e1c-990c5ec65247
DTSTAMP:20260420T083337Z
SUMMARY:Aussetzung des Allerheiligsten
DESCRIPTION:https://www2.bistum-augsburg.de/gottesdienste/aussetzung-des-al
 lerheiligsten_id1712110
DTSTART;TZID=Europe/Berlin:20260506T193000
DURATION:PT30M
LOCATION:St. Peter und Paul\, Kirchweg 2\, 86462 Langweid-Achsheim
END:VEVENT
END:VCALENDAR
