BEGIN:VCALENDAR
VERSION:2.0
PRODID:-//Sabre//Sabre VObject 4.5.8//EN
CALSCALE:GREGORIAN
BEGIN:VEVENT
UID:sabre-vobject-dd413a1e-2f0d-4125-9658-132efbeb683b
DTSTAMP:20260420T074406Z
SUMMARY:Maiandacht in der Nothelferkapelle
DESCRIPTION:https://www2.bistum-augsburg.de/gottesdienste/maiandacht-in-der
 -nothelferkapelle_id1712178
DTSTART;TZID=Europe/Berlin:20260506T190000
DURATION:PT30M
LOCATION:Jesus\, der Gute Hirte
END:VEVENT
END:VCALENDAR
