BEGIN:VCALENDAR
VERSION:2.0
PRODID:-//Sabre//Sabre VObject 4.5.8//EN
CALSCALE:GREGORIAN
BEGIN:VEVENT
UID:sabre-vobject-35c00fd9-e0e8-4eba-bcef-95e7375bb5f6
DTSTAMP:20260422T123433Z
SUMMARY:Erstkommunion Probe
DESCRIPTION:https://www2.bistum-augsburg.de/gottesdienste/erstkommunion-pro
 be_id1713018
DTSTART;TZID=Europe/Berlin:20260507T150000
DURATION:PT30M
LOCATION:St. Martinus
END:VEVENT
END:VCALENDAR
