BEGIN:VCALENDAR
VERSION:2.0
PRODID:-//Sabre//Sabre VObject 4.5.8//EN
CALSCALE:GREGORIAN
BEGIN:VEVENT
UID:sabre-vobject-098320c8-92e3-4ba5-a2f6-266eaf73ce0c
DTSTAMP:20260424T090609Z
SUMMARY:Betstunde um Berufungen
DESCRIPTION:https://www2.bistum-augsburg.de/gottesdienste/betstunde-um-beru
 fungen_id1713021
DTSTART;TZID=Europe/Berlin:20260507T180000
DURATION:PT30M
LOCATION:St. Martinus
END:VEVENT
END:VCALENDAR
