BEGIN:VCALENDAR
VERSION:2.0
PRODID:-//Sabre//Sabre VObject 4.5.8//EN
CALSCALE:GREGORIAN
BEGIN:VEVENT
UID:sabre-vobject-cee3ef55-59a0-4dff-999c-3c5e83671fca
DTSTAMP:20260423T124217Z
SUMMARY:Feier der Hl. Erstkommunion musikalisch gestaltet von der Gruppe Sy
 mbolum
DESCRIPTION:https://www2.bistum-augsburg.de/gottesdienste/feier-der-hl-erst
 kommunion-musikalisch-gestaltet-von-der-gruppe-symbolum_id1713518
DTSTART;TZID=Europe/Berlin:20260503T110000
DURATION:PT30M
LOCATION:Zum Hlgst. Erlöser\, Wellenburger Str. 58\, 86199 Augsburg-Göggi
 ngen
END:VEVENT
END:VCALENDAR
