BEGIN:VCALENDAR
VERSION:2.0
PRODID:-//Sabre//Sabre VObject 4.5.8//EN
CALSCALE:GREGORIAN
BEGIN:VEVENT
UID:sabre-vobject-e0bb0ccf-a68f-44e3-849a-6b2b142a03b0
DTSTAMP:20260423T142533Z
SUMMARY:Abmarsch zur Kobelwallfahrt
DESCRIPTION:https://www2.bistum-augsburg.de/gottesdienste/abmarsch-zur-kobe
 lwallfahrt_id1713681
DTSTART;TZID=Europe/Berlin:20260501T060000
DURATION:PT30M
LOCATION:St. Martin
END:VEVENT
END:VCALENDAR
