BEGIN:VCALENDAR
VERSION:2.0
PRODID:-//Sabre//Sabre VObject 4.5.8//EN
CALSCALE:GREGORIAN
BEGIN:VEVENT
UID:sabre-vobject-b5f20887-e0c4-4323-98a3-6de28ea5df39
DTSTAMP:20260424T103905Z
SUMMARY:Gebetskreis mit Lobpreisliedern
DESCRIPTION:https://www2.bistum-augsburg.de/gottesdienste/gebetskreis-mit-l
 obpreisliedern_id1713687
DTSTART;TZID=Europe/Berlin:20260429T193000
DURATION:PT30M
LOCATION:St. Georg
END:VEVENT
END:VCALENDAR
