BEGIN:VCALENDAR
VERSION:2.0
PRODID:-//Sabre//Sabre VObject 4.5.8//EN
CALSCALE:GREGORIAN
BEGIN:VEVENT
UID:sabre-vobject-72538fcf-115e-4abc-8a17-17564b528a35
DTSTAMP:20260420T101023Z
SUMMARY:Rosenkranz und Beichtgelegenheit
DESCRIPTION:https://www2.bistum-augsburg.de/gottesdienste/rosenkranz-und-be
 ichtgelegenheit_id1713815
DTSTART;TZID=Europe/Berlin:20260425T160000
DURATION:PT30M
LOCATION:St. Martin
END:VEVENT
END:VCALENDAR
