BEGIN:VCALENDAR
VERSION:2.0
PRODID:-//Sabre//Sabre VObject 4.5.8//EN
CALSCALE:GREGORIAN
BEGIN:VEVENT
UID:sabre-vobject-69c7cf64-0c96-4797-ad38-044d7dd8b75f
DTSTAMP:20260424T163920Z
SUMMARY:Rosenkranz
DESCRIPTION:https://www2.bistum-augsburg.de/gottesdienste/rosenkranz_id1713
 831
DTSTART;TZID=Europe/Berlin:20260424T190000
DURATION:PT30M
LOCATION:St. Laurentius\, Obernefsried 3\, 86500 Agawang
END:VEVENT
END:VCALENDAR
