BEGIN:VCALENDAR
VERSION:2.0
PRODID:-//Sabre//Sabre VObject 4.5.8//EN
CALSCALE:GREGORIAN
BEGIN:VEVENT
UID:sabre-vobject-502d881a-4067-4793-a017-4035dd32e31e
DTSTAMP:20260424T000046Z
SUMMARY:Hl. Messe
DESCRIPTION:https://www2.bistum-augsburg.de/gottesdienste/hl-messe_id171387
 3
DTSTART;TZID=Europe/Berlin:20260508T083000
DURATION:PT30M
LOCATION:St. Albert
END:VEVENT
END:VCALENDAR
