BEGIN:VCALENDAR
VERSION:2.0
PRODID:-//Sabre//Sabre VObject 4.5.8//EN
CALSCALE:GREGORIAN
BEGIN:VEVENT
UID:sabre-vobject-03d62693-516b-4438-8473-6b0900317080
DTSTAMP:20260420T002201Z
SUMMARY:Eucharistiefeier am Vorabend
DESCRIPTION:https://www2.bistum-augsburg.de/gottesdienste/eucharistiefeier-
 am-vorabend_id1713897
DTSTART;TZID=Europe/Berlin:20260425T183000
DURATION:PT30M
LOCATION:St. Martin
END:VEVENT
END:VCALENDAR
