BEGIN:VCALENDAR
VERSION:2.0
PRODID:-//Sabre//Sabre VObject 4.5.8//EN
CALSCALE:GREGORIAN
BEGIN:VEVENT
UID:sabre-vobject-038b1ef4-e56d-4c56-8715-9a1486cf0691
DTSTAMP:20260422T125839Z
SUMMARY:Rosenkranz in Aufkirch
DESCRIPTION:https://www2.bistum-augsburg.de/gottesdienste/rosenkranz-in-auf
 kirch_id1714256
DTSTART;TZID=Europe/Berlin:20260502T160000
DURATION:PT30M
LOCATION:St. Peter und Paul\, Weldener Str. 4\, 87662 Kaltental
END:VEVENT
END:VCALENDAR
