BEGIN:VCALENDAR
VERSION:2.0
PRODID:-//Sabre//Sabre VObject 4.5.8//EN
CALSCALE:GREGORIAN
BEGIN:VEVENT
UID:sabre-vobject-35ccdd24-028a-47ef-9949-b327f81bdc60
DTSTAMP:20260420T101022Z
SUMMARY:Maiandacht in Blonhofen (Gestaltung PGR)
DESCRIPTION:https://www2.bistum-augsburg.de/gottesdienste/maiandacht-in-blo
 nhofen-gestaltung-pgr_id1714261
DTSTART;TZID=Europe/Berlin:20260506T191500
DURATION:PT30M
LOCATION:St. Peter und Paul\, Weldener Str. 4\, 87662 Kaltental
END:VEVENT
END:VCALENDAR
