BEGIN:VCALENDAR
VERSION:2.0
PRODID:-//Sabre//Sabre VObject 4.5.8//EN
CALSCALE:GREGORIAN
BEGIN:VEVENT
UID:sabre-vobject-48bb38db-e93b-4188-a940-c79b22ad3a65
DTSTAMP:20260422T104831Z
SUMMARY:Atemholen für die Seele
DESCRIPTION:https://www2.bistum-augsburg.de/gottesdienste/atemholen-fuer-di
 e-seele_id1714273
DTSTART;TZID=Europe/Berlin:20260422T193000
DURATION:PT30M
LOCATION:St. Justina
END:VEVENT
END:VCALENDAR
