BEGIN:VCALENDAR
VERSION:2.0
PRODID:-//Sabre//Sabre VObject 4.5.8//EN
CALSCALE:GREGORIAN
BEGIN:VEVENT
UID:sabre-vobject-b87a9a91-1ba4-47c0-9817-d5479bdffe30
DTSTAMP:20260424T124455Z
SUMMARY:Hl. Messe in Aufkirch entfällt wegen des Bittgangs!!!!
DESCRIPTION:https://www2.bistum-augsburg.de/gottesdienste/hl-messe-in-aufki
 rch-entfaellt-wegen-des-bittgangs_id1714281
DTSTART;TZID=Europe/Berlin:20260512T191500
DURATION:PT30M
LOCATION:St. Peter und Paul\, Weldener Str. 4\, 87662 Kaltental
END:VEVENT
END:VCALENDAR
