BEGIN:VCALENDAR
VERSION:2.0
PRODID:-//Sabre//Sabre VObject 4.5.8//EN
CALSCALE:GREGORIAN
BEGIN:VEVENT
UID:sabre-vobject-8c8338fc-b925-48e2-8728-2a998a9ca606
DTSTAMP:20260425T175743Z
SUMMARY:Eucharistische Anbetung u. Beichte
DESCRIPTION:https://www2.bistum-augsburg.de/gottesdienste/eucharistische-an
 betung-u-beichte_id1714299
DTSTART;TZID=Europe/Berlin:20260508T180000
DURATION:PT30M
LOCATION:St. Joseph
END:VEVENT
END:VCALENDAR
