BEGIN:VCALENDAR
VERSION:2.0
PRODID:-//Sabre//Sabre VObject 4.5.8//EN
CALSCALE:GREGORIAN
BEGIN:VEVENT
UID:sabre-vobject-fbd6983c-84ac-4942-be86-f75f0a525735
DTSTAMP:20260426T010701Z
SUMMARY:Tauffeier - Levi Karl Korff
DESCRIPTION:https://www2.bistum-augsburg.de/gottesdienste/tauffeier-levi-ka
 rl-korff_id1714377
DTSTART;TZID=Europe/Berlin:20260523T140000
DURATION:PT30M
LOCATION:St. Laurentius\, Hauptstraße 22\, 87662 Frankenhofen
END:VEVENT
END:VCALENDAR
