BEGIN:VCALENDAR
VERSION:2.0
PRODID:-//Sabre//Sabre VObject 4.5.8//EN
CALSCALE:GREGORIAN
BEGIN:VEVENT
UID:sabre-vobject-ee70011e-6f15-41ea-a711-080c3680edd0
DTSTAMP:20260424T015346Z
SUMMARY:Sonntagsgottesdienst
DESCRIPTION:https://www2.bistum-augsburg.de/gottesdienste/sonntagsgottesdie
 nst_id1714394
DTSTART;TZID=Europe/Berlin:20260531T084500
DURATION:PT30M
LOCATION:St. Laurentius\, Hauptstraße 22\, 87662 Frankenhofen
END:VEVENT
END:VCALENDAR
