BEGIN:VCALENDAR
VERSION:2.0
PRODID:-//Sabre//Sabre VObject 4.5.8//EN
CALSCALE:GREGORIAN
BEGIN:VEVENT
UID:sabre-vobject-2ee7d2c5-b7a6-44c8-96f2-32bb3b1d8847
DTSTAMP:20260424T030216Z
SUMMARY:Sonntagsgottesdienst
DESCRIPTION:https://www2.bistum-augsburg.de/gottesdienste/sonntagsgottesdie
 nst_id1714437
DTSTART;TZID=Europe/Berlin:20260531T101500
DURATION:PT30M
LOCATION:St. Andreas\, Paul-Gaupp-Str. 6\, 87665 Frankenried
END:VEVENT
END:VCALENDAR
