BEGIN:VCALENDAR
VERSION:2.0
PRODID:-//Sabre//Sabre VObject 4.5.8//EN
CALSCALE:GREGORIAN
BEGIN:VEVENT
UID:sabre-vobject-00fd6bd3-e1fe-4d0d-acef-9995292292d1
DTSTAMP:20260419T224016Z
SUMMARY:Vorabendgottesdienst
DESCRIPTION:https://www2.bistum-augsburg.de/gottesdienste/vorabendgottesdie
 nst_id1714440
DTSTART;TZID=Europe/Berlin:20260502T191500
DURATION:PT30M
LOCATION:St. Vitus
END:VEVENT
END:VCALENDAR
