BEGIN:VCALENDAR
VERSION:2.0
PRODID:-//Sabre//Sabre VObject 4.5.8//EN
CALSCALE:GREGORIAN
BEGIN:VEVENT
UID:sabre-vobject-c5f66491-5d92-415f-b39c-8e7b0709485f
DTSTAMP:20260425T035359Z
SUMMARY:Rosenkranz
DESCRIPTION:https://www2.bistum-augsburg.de/gottesdienste/rosenkranz_id1714
 442
DTSTART;TZID=Europe/Berlin:20260506T184500
DURATION:PT30M
LOCATION:St. Vitus
END:VEVENT
END:VCALENDAR
