BEGIN:VCALENDAR
VERSION:2.0
PRODID:-//Sabre//Sabre VObject 4.5.8//EN
CALSCALE:GREGORIAN
BEGIN:VEVENT
UID:sabre-vobject-ecbf62a6-9b6f-4029-948e-0c8cb6b1b759
DTSTAMP:20260424T213650Z
SUMMARY:Vorabendgottesdienst
DESCRIPTION:https://www2.bistum-augsburg.de/gottesdienste/vorabendgottesdie
 nst_id1714448
DTSTART;TZID=Europe/Berlin:20260516T191500
DURATION:PT30M
LOCATION:St. Vitus
END:VEVENT
END:VCALENDAR
