BEGIN:VCALENDAR
VERSION:2.0
PRODID:-//Sabre//Sabre VObject 4.5.8//EN
CALSCALE:GREGORIAN
BEGIN:VEVENT
UID:sabre-vobject-8e7f9c78-e93c-4e8c-abdc-7a4e1bdfb8f3
DTSTAMP:20260423T122516Z
SUMMARY:Erste feierliche Maiandacht
DESCRIPTION:https://www2.bistum-augsburg.de/gottesdienste/erste-feierliche-
 maiandacht_id1714470
DTSTART;TZID=Europe/Berlin:20260430T190000
DURATION:PT30M
LOCATION:St. Stephan und Oswald\, Rottenbucherstraße 13\, 87662 Osterzell
END:VEVENT
END:VCALENDAR
