BEGIN:VCALENDAR
VERSION:2.0
PRODID:-//Sabre//Sabre VObject 4.5.8//EN
CALSCALE:GREGORIAN
BEGIN:VEVENT
UID:sabre-vobject-edd6da57-1a5c-43d7-8f75-0643bf3a937c
DTSTAMP:20260425T000047Z
SUMMARY:Trauung - Angela Meichelböck und Stephan Dohle
DESCRIPTION:https://www2.bistum-augsburg.de/gottesdienste/trauung-angela-me
 ichelboeck-und-stephan-dohle_id1714479
DTSTART;TZID=Europe/Berlin:20260523T133000
DURATION:PT30M
LOCATION:St. Peter und Paul\, Weldener Str. 4\, 87662 Kaltental
END:VEVENT
END:VCALENDAR
