BEGIN:VCALENDAR
VERSION:2.0
PRODID:-//Sabre//Sabre VObject 4.5.8//EN
CALSCALE:GREGORIAN
BEGIN:VEVENT
UID:sabre-vobject-a8bbc667-08ba-433b-af2b-fff1d62cc526
DTSTAMP:20260424T043111Z
SUMMARY:Hl. Messe
DESCRIPTION:https://www2.bistum-augsburg.de/gottesdienste/hl-messe_id171448
 7
DTSTART;TZID=Europe/Berlin:20260507T191500
DURATION:PT30M
LOCATION:St. Laurentius\, Hauptstraße 22\, 87662 Frankenhofen
END:VEVENT
END:VCALENDAR
