BEGIN:VCALENDAR
VERSION:2.0
PRODID:-//Sabre//Sabre VObject 4.5.8//EN
CALSCALE:GREGORIAN
BEGIN:VEVENT
UID:sabre-vobject-53dee88f-23d1-4e11-9f62-25b0a8d3cbef
DTSTAMP:20260424T174514Z
SUMMARY:Gemeindegottesdienst
DESCRIPTION:https://www2.bistum-augsburg.de/gottesdienste/gemeindegottesdie
 nst_id1714492
DTSTART;TZID=Europe/Berlin:20260525T101500
DURATION:PT30M
LOCATION:St. Peter und Paul\, Weldener Str. 4\, 87662 Kaltental
END:VEVENT
END:VCALENDAR
