BEGIN:VCALENDAR
VERSION:2.0
PRODID:-//Sabre//Sabre VObject 4.5.8//EN
CALSCALE:GREGORIAN
BEGIN:VEVENT
UID:sabre-vobject-3ffc8544-9ef5-43d8-8df0-385fdf42d4f3
DTSTAMP:20260425T030148Z
SUMMARY:Tauffeier -  Fiona Luzia Wörz
DESCRIPTION:https://www2.bistum-augsburg.de/gottesdienste/tauffeier-fiona-l
 uzia-woerz_id1714493
DTSTART;TZID=Europe/Berlin:20260525T113000
DURATION:PT30M
LOCATION:St. Peter und Paul\, Weldener Str. 4\, 87662 Kaltental
END:VEVENT
END:VCALENDAR
