BEGIN:VCALENDAR
VERSION:2.0
PRODID:-//Sabre//Sabre VObject 4.5.8//EN
CALSCALE:GREGORIAN
BEGIN:VEVENT
UID:sabre-vobject-6ba7a914-6a7e-4918-aaa0-3508fdd2461e
DTSTAMP:20260422T230336Z
SUMMARY:Einsetzung und eucharistischer Segen
DESCRIPTION:https://www2.bistum-augsburg.de/gottesdienste/einsetzung-und-eu
 charistischer-segen_id1714504
DTSTART;TZID=Europe/Berlin:20260501T073000
DURATION:PT30M
LOCATION:St. Gordian und Epimach
END:VEVENT
END:VCALENDAR
