BEGIN:VCALENDAR
VERSION:2.0
PRODID:-//Sabre//Sabre VObject 4.5.8//EN
CALSCALE:GREGORIAN
BEGIN:VEVENT
UID:sabre-vobject-69408ba5-e115-4258-8b12-cf9671f69d56
DTSTAMP:20260424T074855Z
SUMMARY:Maiandacht in der Kapelle in Thalhofen
DESCRIPTION:https://www2.bistum-augsburg.de/gottesdienste/maiandacht-in-der
 -kapelle-in-thalhofen_id1714537
DTSTART;TZID=Europe/Berlin:20260512T191500
DURATION:PT30M
LOCATION:St. Gordian und Epimach
END:VEVENT
END:VCALENDAR
