BEGIN:VCALENDAR
VERSION:2.0
PRODID:-//Sabre//Sabre VObject 4.5.8//EN
CALSCALE:GREGORIAN
BEGIN:VEVENT
UID:sabre-vobject-53f06789-8466-45e9-9b1d-5563abee982a
DTSTAMP:20260424T225113Z
SUMMARY:Bittgang der Pfarrgemeinden Aufkirch\, Osterzell und Frankenhofen z
 ur Kirche nach Frankenhofen (bei schlechtem Wetter\, Bittmesse in Frankenh
 ofen um 19.15 Uhr)
DESCRIPTION:https://www2.bistum-augsburg.de/gottesdienste/bittgang-der-pfar
 rgemeinden-aufkirch-osterzell-und-frankenhofen-zur-kirche-nach-frankenhofe
 n-bei-schlechtem-wetter-bittmesse-in-frankenhofen-um-19-15-uhr_id1714541
DTSTART;TZID=Europe/Berlin:20260512T184500
DURATION:PT30M
LOCATION:St. Stephan und Oswald\, Rottenbucherstraße 13\, 87662 Osterzell
END:VEVENT
END:VCALENDAR
