BEGIN:VCALENDAR
VERSION:2.0
PRODID:-//Sabre//Sabre VObject 4.5.8//EN
CALSCALE:GREGORIAN
BEGIN:VEVENT
UID:sabre-vobject-2c60d267-0b2d-455b-ab56-2f99a859152c
DTSTAMP:20260426T015557Z
SUMMARY:Maiandacht an der Grotte im Pfarrgarten \n (bei schlechtem Wetter i
 n der Pfarrkirche)\n
DESCRIPTION:https://www2.bistum-augsburg.de/gottesdienste/maiandacht-an-der
 -grotte-im-pfarrgarten-bei-schlechtem-wetter-in-der-pfarrkirche_id1714542
DTSTART;TZID=Europe/Berlin:20260520T143000
DURATION:PT30M
LOCATION:St. Gordian und Epimach
END:VEVENT
END:VCALENDAR
