BEGIN:VCALENDAR
VERSION:2.0
PRODID:-//Sabre//Sabre VObject 4.5.8//EN
CALSCALE:GREGORIAN
BEGIN:VEVENT
UID:sabre-vobject-6b3f0bfd-88fd-4ab6-9258-92cba6118615
DTSTAMP:20260423T191139Z
SUMMARY:Hl. Messe - Marktmesse
DESCRIPTION:https://www2.bistum-augsburg.de/gottesdienste/hl-messe-marktmes
 se_id1714675
DTSTART;TZID=Europe/Berlin:20260424T083000
DURATION:PT30M
LOCATION:St. Jakobus maj.\, St.-Jakobs-Platz\, 86316 Friedberg
END:VEVENT
END:VCALENDAR
