BEGIN:VCALENDAR
VERSION:2.0
PRODID:-//Sabre//Sabre VObject 4.5.8//EN
CALSCALE:GREGORIAN
BEGIN:VEVENT
UID:sabre-vobject-837fd959-1a1d-4195-9883-105f2da7829b
DTSTAMP:20260421T155031Z
SUMMARY:Heilige Messe in Biberbach (Wallfahrt)
DESCRIPTION:https://www2.bistum-augsburg.de/gottesdienste/heilige-messe-in-
 biberbach-wallfahrt_id1714766
DTSTART;TZID=Europe/Berlin:20260502T120000
DURATION:PT30M
LOCATION:St. Peter und Paul
END:VEVENT
END:VCALENDAR
