BEGIN:VCALENDAR
VERSION:2.0
PRODID:-//Sabre//Sabre VObject 4.5.8//EN
CALSCALE:GREGORIAN
BEGIN:VEVENT
UID:sabre-vobject-c6a7a9d4-c68c-44af-85a0-d7f1b357850b
DTSTAMP:20260420T101022Z
SUMMARY:Vorabendmesse
DESCRIPTION:https://www2.bistum-augsburg.de/gottesdienste/vorabendmesse_id1
 714839
DTSTART;TZID=Europe/Berlin:20260418T193000
DURATION:PT30M
LOCATION:St. Stephan\, Kirchberg 4\, 87647 Oberthingau
END:VEVENT
END:VCALENDAR
