BEGIN:VCALENDAR
VERSION:2.0
PRODID:-//Sabre//Sabre VObject 4.5.8//EN
CALSCALE:GREGORIAN
BEGIN:VEVENT
UID:sabre-vobject-5f3be761-3ef3-477f-9334-c988cac80281
DTSTAMP:20260420T101355Z
SUMMARY:Gebetskreis
DESCRIPTION:https://www2.bistum-augsburg.de/gottesdienste/gebetskreis_id171
 4892
DTSTART;TZID=Europe/Berlin:20260420T173000
DURATION:PT30M
LOCATION:St. Peter und Paul
END:VEVENT
END:VCALENDAR
