BEGIN:VCALENDAR
VERSION:2.0
PRODID:-//Sabre//Sabre VObject 4.5.8//EN
CALSCALE:GREGORIAN
BEGIN:VEVENT
UID:sabre-vobject-79653188-3dbc-485c-8e2f-c4fa9a3c9d1a
DTSTAMP:20260420T211532Z
SUMMARY:Oldtimer-Segnung
DESCRIPTION:https://www2.bistum-augsburg.de/gottesdienste/oldtimer-segnung_
 id1714953
DTSTART;TZID=Europe/Berlin:20260502T110000
DURATION:PT30M
LOCATION:St. Katharina
END:VEVENT
END:VCALENDAR
