BEGIN:VCALENDAR
VERSION:2.0
PRODID:-//Sabre//Sabre VObject 4.5.8//EN
CALSCALE:GREGORIAN
BEGIN:VEVENT
UID:sabre-vobject-1bc5097e-08ee-4bc4-8e76-6c79d264ab30
DTSTAMP:20260424T185802Z
SUMMARY:Seniorenzentrum - Heilige Messe
DESCRIPTION:https://www2.bistum-augsburg.de/gottesdienste/seniorenzentrum-h
 eilige-messe_id1714987
DTSTART;TZID=Europe/Berlin:20260520T103000
DURATION:PT30M
LOCATION:Zu den Heiligen Engeln
END:VEVENT
END:VCALENDAR
