BEGIN:VCALENDAR
VERSION:2.0
PRODID:-//Sabre//Sabre VObject 4.5.8//EN
CALSCALE:GREGORIAN
BEGIN:VEVENT
UID:sabre-vobject-9b24f0af-129d-4657-88bc-881d851624f5
DTSTAMP:20260420T021633Z
SUMMARY:Heilige Messe in Fultenbach / MB
DESCRIPTION:https://www2.bistum-augsburg.de/gottesdienste/heilige-messe-in-
 fultenbach-mb_id1714991
DTSTART;TZID=Europe/Berlin:20260424T183000
DURATION:PT30M
LOCATION:St. Peter und Paul
END:VEVENT
END:VCALENDAR
