BEGIN:VCALENDAR
VERSION:2.0
PRODID:-//Sabre//Sabre VObject 4.5.8//EN
CALSCALE:GREGORIAN
BEGIN:VEVENT
UID:sabre-vobject-6ddbbb84-0583-4c7b-9d2e-cb6001c09ca6
DTSTAMP:20260424T113647Z
SUMMARY:Erstkommunionfeier
DESCRIPTION:https://www2.bistum-augsburg.de/gottesdienste/erstkommunionfeie
 r_id1715003
DTSTART;TZID=Europe/Berlin:20260426T100000
DURATION:PT30M
LOCATION:St. Peter\, Pfarrer-Wittmann-Platz 2\, 86447 Stotzard
END:VEVENT
END:VCALENDAR
