BEGIN:VCALENDAR
VERSION:2.0
PRODID:-//Sabre//Sabre VObject 4.5.8//EN
CALSCALE:GREGORIAN
BEGIN:VEVENT
UID:sabre-vobject-14392550-52e4-4d41-b019-7df6bab75f5b
DTSTAMP:20260425T035424Z
SUMMARY:Floriansmesse mit der FFW Landsberg und der Stadtkapelle\, anschl. 
 Fahrzeugsegnung am Hauptplatz
DESCRIPTION:https://www2.bistum-augsburg.de/gottesdienste/floriansmesse-mit
 -der-ffw-landsberg-und-der-stadtkapelle-anschl-fahrzeugsegnung-am-hauptpla
 tz_id1715042
DTSTART;TZID=Europe/Berlin:20260509T180000
DURATION:PT30M
LOCATION:Zu den Heiligen Engeln
END:VEVENT
END:VCALENDAR
