BEGIN:VCALENDAR
VERSION:2.0
PRODID:-//Sabre//Sabre VObject 4.5.8//EN
CALSCALE:GREGORIAN
BEGIN:VEVENT
UID:sabre-vobject-d1f1acb7-e164-4070-9804-19b1d98856fc
DTSTAMP:20260424T000242Z
SUMMARY:VAM:
DESCRIPTION:https://www2.bistum-augsburg.de/gottesdienste/vam_id1715067
DTSTART;TZID=Europe/Berlin:20260502T183000
DURATION:PT30M
LOCATION:St. Nikolaus
END:VEVENT
END:VCALENDAR
