BEGIN:VCALENDAR
VERSION:2.0
PRODID:-//Sabre//Sabre VObject 4.5.8//EN
CALSCALE:GREGORIAN
BEGIN:VEVENT
UID:sabre-vobject-e445162f-bd1c-43c5-999b-49c0af1e841b
DTSTAMP:20260424T203124Z
SUMMARY:Heilige Messe in kroatischer Sprache
DESCRIPTION:https://www2.bistum-augsburg.de/gottesdienste/heilige-messe-in-
 kroatischer-sprache_id1715088
DTSTART;TZID=Europe/Berlin:20260426T160000
DURATION:PT30M
LOCATION:Zu den Heiligen Engeln
END:VEVENT
END:VCALENDAR
