BEGIN:VCALENDAR
VERSION:2.0
PRODID:-//Sabre//Sabre VObject 4.5.8//EN
CALSCALE:GREGORIAN
BEGIN:VEVENT
UID:sabre-vobject-c038d365-6b7d-491a-a911-f829c1f6d5a6
DTSTAMP:20260426T001429Z
SUMMARY:Ökum. Friedensgebet
DESCRIPTION:https://www2.bistum-augsburg.de/gottesdienste/oekum-friedensgeb
 et_id1715090
DTSTART;TZID=Europe/Berlin:20260429T183000
DURATION:PT30M
LOCATION:Zu den Heiligen Engeln
END:VEVENT
END:VCALENDAR
