BEGIN:VCALENDAR
VERSION:2.0
PRODID:-//Sabre//Sabre VObject 4.5.8//EN
CALSCALE:GREGORIAN
BEGIN:VEVENT
UID:sabre-vobject-e70ff449-989a-410a-8ca2-c12637f7dfd4
DTSTAMP:20260419T174511Z
SUMMARY:Heilige Messe
DESCRIPTION:https://www2.bistum-augsburg.de/gottesdienste/heilige-messe_id1
 715092
DTSTART;TZID=Europe/Berlin:20260503T083000
DURATION:PT30M
LOCATION:Zu den Heiligen Engeln
END:VEVENT
END:VCALENDAR
